BEGIN:VCALENDAR
VERSION:2.0
PRODID:icalendar-ruby
CALSCALE:GREGORIAN
METHOD:PUBLISH
BEGIN:VEVENT
DTSTAMP:20260426T043336Z
UID:11-543754@livingwaterweb.org
DTSTART:20261018T153000Z
DTEND:20261018T180000Z
CLASS:PUBLIC
CREATED:20260425T202440
DESCRIPTION:\n\n\n\n\n\nCome experience an awesome move of God with us in w
 orship at 10:30 AM!\n\n\n\n\n\n\n
LAST-MODIFIED:20260425T202440
LOCATION:12515 Fondren Rd. Ste. N.\, Houston\, TX
SUMMARY:Sunday Morning Worship
URL;VALUE=URI:https://livingwaterweb.org/events/sunday-morning-worship--11/
 2026-10-18
ATTACH;FILENAME=untitled-7905.jpg;FMTTYPE=image/jpeg:https://dq5pwpg1q8ru0.
 cloudfront.net/2024/04/01/21/38/42/ca72c71f-e6ba-48a8-8c8c-b1edd9d2c500/un
 titled-7905.jpg
END:VEVENT
END:VCALENDAR
