BEGIN:VCALENDAR
VERSION:2.0
PRODID:icalendar-ruby
CALSCALE:GREGORIAN
METHOD:PUBLISH
BEGIN:VEVENT
DTSTAMP:20260426T015835Z
UID:12-543897@livingwaterweb.org
DTSTART:20261016T000000Z
DTEND:20261016T020000Z
CLASS:PUBLIC
CREATED:20260425T202440
DESCRIPTION:Join us for a midweek worship experience every Thursday night 
 at 7:30 PM!
LAST-MODIFIED:20260425T202440
LOCATION:12515 Fondren Rd. Ste N.\, Houston\, TX 77035
SUMMARY:Midweek Service
URL;VALUE=URI:https://livingwaterweb.org/events/midweek-service/2026-10-15
ATTACH;FILENAME=untitled-9460.jpg;FMTTYPE=image/jpeg:https://dq5pwpg1q8ru0.
 cloudfront.net/2024/04/01/21/45/10/ede9ee7b-178a-4e88-a798-2d7eb560b2a4/un
 titled-9460.jpg
END:VEVENT
END:VCALENDAR
