BEGIN:VCALENDAR
VERSION:2.0
PRODID:icalendar-ruby
CALSCALE:GREGORIAN
METHOD:PUBLISH
BEGIN:VEVENT
DTSTAMP:20260426T035901Z
UID:8-543610@livingwaterweb.org
DTSTART:20261021T000000Z
DTEND:20261021T010000Z
CLASS:PUBLIC
CREATED:20260425T202440
DESCRIPTION:\n\n\n\n\nJoin us for an interactive bible study via Zoom ever
 y Tuesday night at 7:00 PM!\n\n\n\n\nhttps://us02web.zoom.us/j/3508594097?
 omn=83663486221 (Passcode: Hope)\nZoom ID: 350 859 4097\nPasscode: Hope\n\
 n\n\n\n\n\n\n\n\n\n
LAST-MODIFIED:20260425T202440
LOCATION:on Zoom
SUMMARY:Bible Study/Institute
URL;VALUE=URI:https://livingwaterweb.org/events/bible-study-institute/2026-
 10-20
ATTACH;FILENAME=office-worker-attending-business-meeting-videocall-conferen
 ce-with-webcam-network-connection-talking-colleagues-remote-video-teleconf
 erence-telework-working-late-night.jpg;FMTTYPE=image/jpeg:https://dq5pwpg1
 q8ru0.cloudfront.net/2024/03/26/15/08/46/3380344c-8341-4465-a9e9-10d399e7e
 ba6/office-worker-attending-business-meeting-videocall-conference-with-web
 cam-network-connection-talking-colleagues-remote-video-teleconference-tele
 work-working-late-night.jpg
END:VEVENT
END:VCALENDAR
